BEGIN:VCALENDAR
VERSION:2.0
PRODID:-//Inclusive Sol - ECPv6.15.20//NONSGML v1.0//EN
CALSCALE:GREGORIAN
METHOD:PUBLISH
X-ORIGINAL-URL:https://inclusivesol.org
X-WR-CALDESC:Events for Inclusive Sol
REFRESH-INTERVAL;VALUE=DURATION:PT1H
X-Robots-Tag:noindex
X-PUBLISHED-TTL:PT1H
BEGIN:VTIMEZONE
TZID:UTC
BEGIN:STANDARD
TZOFFSETFROM:+0000
TZOFFSETTO:+0000
TZNAME:UTC
DTSTART:20250101T000000
END:STANDARD
END:VTIMEZONE
BEGIN:VEVENT
DTSTART;TZID=UTC:20260412T080000
DTEND;TZID=UTC:20260412T120000
DTSTAMP:20260420T132438
CREATED:20260315T031017Z
LAST-MODIFIED:20260315T031017Z
UID:5203-1775980800-1775995200@inclusivesol.org
SUMMARY:Western Regional Boccia Tournament 2026
DESCRIPTION:This beginner-friendly event welcomes athletes of all abilities and focuses on inclusion\, confidence-building\, friendship\, and gaining valuable boccia experience in a supportive environment. It’s a great opportunity to be part of a growing Paralympic sport and a vibrant boccia community.
URL:https://inclusivesol.org/event/western-regional-boccia-tournament-2026-2/
LOCATION:Burbank High School\, 902 North 3rd Street\, Burbank\, CA\, 91502\, United States
END:VEVENT
END:VCALENDAR