BEGIN:VCALENDAR
VERSION:2.0
PRODID:-//Inclusive Sol - ECPv6.15.20//NONSGML v1.0//EN
CALSCALE:GREGORIAN
METHOD:PUBLISH
X-WR-CALNAME:Inclusive Sol
X-ORIGINAL-URL:https://inclusivesol.org
X-WR-CALDESC:Events for Inclusive Sol
REFRESH-INTERVAL;VALUE=DURATION:PT1H
X-Robots-Tag:noindex
X-PUBLISHED-TTL:PT1H
BEGIN:VTIMEZONE
TZID:UTC
BEGIN:STANDARD
TZOFFSETFROM:+0000
TZOFFSETTO:+0000
TZNAME:UTC
DTSTART:20220101T000000
END:STANDARD
END:VTIMEZONE
BEGIN:VEVENT
DTSTART;TZID=UTC:20260124T103000
DTEND;TZID=UTC:20260124T130000
DTSTAMP:20260419T154913
CREATED:20260111T130702Z
LAST-MODIFIED:20260111T130702Z
UID:4619-1769250600-1769259600@inclusivesol.org
SUMMARY:My PlayClub: Play with Heart
DESCRIPTION:Join us for My PlayClub: Play with Heart—our free\, Valentine’s Day-themed playdate for children of all abilities! \n  \nDate: Saturday\, January 24\, 2026 \nTime: 10:30 AM – 1:00 PM \nLocation: Sepulveda Recreation Center\, 8825 Kester Avenue\, Panorama City\, CA 91402 \n  \nPlease note: We have changed the venue from Elysian Park to Sepulveda Recreation Center. The bathrooms at Elysian Park are not completed yet\, so we will shoot for having My PlayClub at Elysian Park in October. \n  \nThis free inclusive community event features: \n\nValentine’s craft project\nFace painting and temporary tattoos\nYummy snacks\nInclusive fun on our accessible playground\nVolunteer buddies\n\nCome celebrate in a welcoming\, supportive environment where every child is invited to play\, create\, and connect. \n  \nPlease RSVP: inclusionmatters.org/my-playclub
URL:https://inclusivesol.org/event/my-playclub-play-with-heart/
LOCATION:Sepulveda Recreation Center\, 8825 Kester Avenue\, Panorama City\, CA\, 91402\, United States
END:VEVENT
BEGIN:VEVENT
DTSTART;TZID=UTC:20260124T090000
DTEND;TZID=UTC:20260124T170000
DTSTAMP:20260419T154913
CREATED:20260117T013336Z
LAST-MODIFIED:20260117T013853Z
UID:4638-1769245200-1769274000@inclusivesol.org
SUMMARY:Festival of Human Abilities
DESCRIPTION:The Aquarium of the Pacific welcomes guests to its twenty-third annual Festival of Human Abilities\, which celebrates the creative talents of people with disabilities. All attendees will be able to experience live performances and workshops by dancers\, musicians\, and artists who have learned unique adaptive skills to hone their craft. This festival will include sign language interpreters\, and the Aquarium will have visitor guides in Braille and audio tours available for guests. \n\nLive festival presentations are scheduled for the following times in the following locations. All programs subject to change and weather dependent. Festival programming is 15-20 minutes \n\n10:00 a.m. Honda Blue Cavern\n10:45 a.m. Honda Blue Cavern\n11:30 a.m. Honda Pacific Visions Theater\n12:15 p.m. Honda Blue Cavern\n1:00 p.m. Honda Pacific Visions Theater\n1:45 p.m. Honda Blue Cavern\n2:30 p.m. Honda Pacific Visions Theater\n3:15 p.m. Honda Blue Cavern\n4:00 p.m. Honda Pacific Visions Theater\n\n\n\nPurchase Tickets\nGeneral admission is required.\nMember Reservations\nFree for Aquarium members with reservations.
URL:https://inclusivesol.org/event/festival-of-human-abilities/
LOCATION:Aquarium of the Pacific\, 100 Aquarium Way\, Long Beach\, CA\, 90802\, United States
END:VEVENT
BEGIN:VEVENT
DTSTART;TZID=UTC:20260114T120000
DTEND;TZID=UTC:20260114T125500
DTSTAMP:20260419T154913
CREATED:20251213T044246Z
LAST-MODIFIED:20251228T065249Z
UID:4375-1768392000-1768395300@inclusivesol.org
SUMMARY:Pause & Connect with Inclusive Sol - January 2026
DESCRIPTION:Pause & Connect is a monthly space via a virtual Zoom gathering for caregivers of people with cerebral palsy to breathe\, feel supported\, and connect in community. \n✨ This Month’s Theme: January – “New Year\, New Routines”\nSharing strategies for building structure\, balance\, and flexibility as families start the year. This month\, we also honor the spirit of disability acceptance as we move into a new year of advocacy and care. \n✨ Purpose\nTo create a safe and nurturing online space where parents and caregivers of people with cerebral palsy can pause from daily routines\, connect with others who understand\, and feel seen and supported. \n✨ Why We Gather\nTo connect the CP community\, share our experiences\, and exchange practical ideas that help us support ourselves and our loved ones with confidence and connection at every age and stage. \n✨ Format\nZoom Video Conference\nTo honor different schedules\, session times rotate each month between a midday and an evening option: \n\n2nd Wednesday — 12:00–12:55 pm PST\n4th Thursday — 6:00–6:55 pm PST\n\nEach month offers one peer-led session\, following this rotation. \nIn our time together\, you’ll find empathy\, understanding\, and community—gentle reminders that you don’t have to navigate this path alone. Together\, we pause\, connect\, and build belonging. \n✨ 2026 Pause & Connect Calendar\n\nJanuary – Wed\, Jan 14\, 2026 · 12:00–1:00 pm PST\nFebruary – Thu\, Feb 26\, 2026 · 6:00–7:00 pm PST\nMarch – Wed\, Mar 11\, 2026 · 12:00–1:00 pm PST\nApril – Thu\, Apr 23\, 2026 · 6:00–7:00 pm PST\nMay – Wed\, May 13\, 2026 · 12:00–1:00 pm PST\nJune – Thu\, Jun 25\, 2026 · 6:00–7:00 pm PST\nJuly – Wed\, Jul 8\, 2026 · 12:00–1:00 pm PST\nAugust – Thu\, Aug 27\, 2026 · 6:00–7:00 pm PST\nSeptember – Wed\, Sep 9\, 2026 · 12:00–1:00 pm PST\nOctober – Thu\, Oct 22\, 2026 · 6:00–7:00 pm PST\nNovember – Wed\, Nov 11\, 2026 · 12:00–1:00 pm PST\nDecember – Thu\, Dec 10\, 2026 · 6:00–7:00 pm PST\n\nRSVP Directly on Eventbrite \n 
URL:https://inclusivesol.org/event/pause-connect-with-inclusive-sol-january-2026/
LOCATION:Online Support Group for Parents/Caregivers
END:VEVENT
BEGIN:VEVENT
DTSTART;VALUE=DATE:20260114
DTEND;VALUE=DATE:20260116
DTSTAMP:20260419T154913
CREATED:20251223T143113Z
LAST-MODIFIED:20251223T143113Z
UID:4565-1768377600-1768463999@inclusivesol.org
SUMMARY:Rally for our Health Care and Services
DESCRIPTION:
URL:https://inclusivesol.org/event/rally-for-our-health-care-and-services/
LOCATION:California State Capitol\, 1315 10th St\, Sacramento\, 95814\, United States
END:VEVENT
BEGIN:VEVENT
DTSTART;TZID=UTC:20251221T110000
DTEND;TZID=UTC:20251221T140000
DTSTAMP:20260419T154913
CREATED:20251213T132608Z
LAST-MODIFIED:20251213T133912Z
UID:4395-1766314800-1766325600@inclusivesol.org
SUMMARY:Christmas Care Exchange
DESCRIPTION:Special Needs Network invites you to embrace the spirit of joy this holiday season! Join us at our Annual Christmas Care Exchange Toy Giveaway and Resource Fair\, where the community comes together for a day of festive cheer and generosity. Bring your kids and relish the magic of the season as we share smiles\, laughter\, and\, of course\, delightful gifts. It’s not just an event; it’s a celebration of community and togetherness. Don’t miss out on the joy—be a part of our festive gathering! \nThe day’s highlights include: \n\nToy Giveaway\nPicture with Santa\nFood Distribution\nCommunity activity\nDJ & dancing\nArts & crafts\nRefreshments\n\nPlease contact Bonnie Rodriguez at Special Needs Network if you have any questions or comments\, or if you are interested in Sponsorship opportunities\, volunteering\, or would like more information please call: 323.925.6706 or email: brodriguez@snnla.org
URL:https://inclusivesol.org/event/christmas-care-exchange/
LOCATION:Crenshaw Family YMCA\, 3820 Santa Rosalia Dr\, Los Angeles\, CA\, 90008\, United States
END:VEVENT
BEGIN:VEVENT
DTSTART;TZID=UTC:20230502T173000
DTEND;TZID=UTC:20230502T190000
DTSTAMP:20260419T154913
CREATED:20230415T100440Z
LAST-MODIFIED:20230415T103444Z
UID:2003-1683048600-1683054000@inclusivesol.org
SUMMARY:Inclusive Sol
DESCRIPTION:When filling out the contact form\, please choose “Support Group” from the drop-down menu. You will be sent information via email with more details including the ZOOM link! *Currently offering English-speaking-only group.\n\n \nDOWNLOAD\n\nIf you are interested in joining the Inclusive Sol CP Support Group\, click here. \nGet connected with other families who have children with cerebral palsy. If affiliated with a regional center in California or a local CP organization\, do inquire about a support group. \n \nAnother option is to go online to engage with other parents/caretakers on platforms like Facebook at no cost. \nSOCIAL MEDIA \nFacebook \n\nRaising Children with Cerebral Palsy (Private)\nCerebral Palsy Support Group (Private)\nCerebral Palsy Parents Information Group (Public)\nSpecial Needs Parents Support & Discussion Group (Private)\n\nNONPROFIT \n\nUnited Cerebral Palsy (UCP)\nUCP affiliates provide services and support on a community-by-community basis\, serving the unique needs of people with disabilities in their region. *The Los Angeles\, CA affiliate is called Momentum but they do not solely focus on CP nor do they have a support group for parents who have children with CP.
URL:https://inclusivesol.org/event/inclusive-sol/
LOCATION:CA
END:VEVENT
END:VCALENDAR