BEGIN:VCALENDAR
VERSION:2.0
PRODID:-//Inclusive Sol - ECPv6.15.20//NONSGML v1.0//EN
CALSCALE:GREGORIAN
METHOD:PUBLISH
X-WR-CALNAME:Inclusive Sol
X-ORIGINAL-URL:https://inclusivesol.org
X-WR-CALDESC:Events for Inclusive Sol
REFRESH-INTERVAL;VALUE=DURATION:PT1H
X-Robots-Tag:noindex
X-PUBLISHED-TTL:PT1H
BEGIN:VTIMEZONE
TZID:UTC
BEGIN:STANDARD
TZOFFSETFROM:+0000
TZOFFSETTO:+0000
TZNAME:UTC
DTSTART:20220101T000000
END:STANDARD
END:VTIMEZONE
BEGIN:VEVENT
DTSTART;TZID=UTC:20251221T110000
DTEND;TZID=UTC:20251221T140000
DTSTAMP:20260420T175927
CREATED:20251213T132608Z
LAST-MODIFIED:20251213T133912Z
UID:4395-1766314800-1766325600@inclusivesol.org
SUMMARY:Christmas Care Exchange
DESCRIPTION:Special Needs Network invites you to embrace the spirit of joy this holiday season! Join us at our Annual Christmas Care Exchange Toy Giveaway and Resource Fair\, where the community comes together for a day of festive cheer and generosity. Bring your kids and relish the magic of the season as we share smiles\, laughter\, and\, of course\, delightful gifts. It’s not just an event; it’s a celebration of community and togetherness. Don’t miss out on the joy—be a part of our festive gathering! \nThe day’s highlights include: \n\nToy Giveaway\nPicture with Santa\nFood Distribution\nCommunity activity\nDJ & dancing\nArts & crafts\nRefreshments\n\nPlease contact Bonnie Rodriguez at Special Needs Network if you have any questions or comments\, or if you are interested in Sponsorship opportunities\, volunteering\, or would like more information please call: 323.925.6706 or email: brodriguez@snnla.org
URL:https://inclusivesol.org/event/christmas-care-exchange/
LOCATION:Crenshaw Family YMCA\, 3820 Santa Rosalia Dr\, Los Angeles\, CA\, 90008\, United States
END:VEVENT
BEGIN:VEVENT
DTSTART;TZID=UTC:20230502T173000
DTEND;TZID=UTC:20230502T190000
DTSTAMP:20260420T175927
CREATED:20230415T100440Z
LAST-MODIFIED:20230415T103444Z
UID:2003-1683048600-1683054000@inclusivesol.org
SUMMARY:Inclusive Sol
DESCRIPTION:When filling out the contact form\, please choose “Support Group” from the drop-down menu. You will be sent information via email with more details including the ZOOM link! *Currently offering English-speaking-only group.\n\n \nDOWNLOAD\n\nIf you are interested in joining the Inclusive Sol CP Support Group\, click here. \nGet connected with other families who have children with cerebral palsy. If affiliated with a regional center in California or a local CP organization\, do inquire about a support group. \n \nAnother option is to go online to engage with other parents/caretakers on platforms like Facebook at no cost. \nSOCIAL MEDIA \nFacebook \n\nRaising Children with Cerebral Palsy (Private)\nCerebral Palsy Support Group (Private)\nCerebral Palsy Parents Information Group (Public)\nSpecial Needs Parents Support & Discussion Group (Private)\n\nNONPROFIT \n\nUnited Cerebral Palsy (UCP)\nUCP affiliates provide services and support on a community-by-community basis\, serving the unique needs of people with disabilities in their region. *The Los Angeles\, CA affiliate is called Momentum but they do not solely focus on CP nor do they have a support group for parents who have children with CP.
URL:https://inclusivesol.org/event/inclusive-sol/
LOCATION:CA
END:VEVENT
END:VCALENDAR