BEGIN:VCALENDAR
VERSION:2.0
PRODID:-//Inclusive Sol - ECPv6.15.20//NONSGML v1.0//EN
CALSCALE:GREGORIAN
METHOD:PUBLISH
X-WR-CALNAME:Inclusive Sol
X-ORIGINAL-URL:https://inclusivesol.org
X-WR-CALDESC:Events for Inclusive Sol
REFRESH-INTERVAL;VALUE=DURATION:PT1H
X-Robots-Tag:noindex
X-PUBLISHED-TTL:PT1H
BEGIN:VTIMEZONE
TZID:UTC
BEGIN:STANDARD
TZOFFSETFROM:+0000
TZOFFSETTO:+0000
TZNAME:UTC
DTSTART:20250101T000000
END:STANDARD
END:VTIMEZONE
BEGIN:VEVENT
DTSTART;TZID=UTC:20260911T080000
DTEND;TZID=UTC:20260911T140000
DTSTAMP:20260419T154545
CREATED:20260228T043945Z
LAST-MODIFIED:20260228T043945Z
UID:5049-1789113600-1789135200@inclusivesol.org
SUMMARY:A Walk On Water at Montauk\, NY
DESCRIPTION:Harnessing the ocean’s transformative powers\, we deliver life-changing surf therapy to children with unique needs and their families. \nWe constantly strive to enhance our programs\, strengthen our community and provide access to more children in need and their families\, while remaining true to our core values— Empowering children with a feeling of pride and accomplishment\, as they unlock their inner athlete through the emotional and incredibly transforming experience of surfing. \nSignups for each individual location will be held 4 to 6 weeks before the event and announced via socials and email.
URL:https://inclusivesol.org/event/a-walk-on-water-at-montauk-ny/
LOCATION:Montauk\, 18 Ditch Plains Rd\, NY\, 11954\, United States
END:VEVENT
BEGIN:VEVENT
DTSTART;TZID=UTC:20260912T080000
DTEND;TZID=UTC:20260912T140000
DTSTAMP:20260419T154545
CREATED:20260315T031505Z
LAST-MODIFIED:20260315T031505Z
UID:5067-1789200000-1789221600@inclusivesol.org
SUMMARY:A Walk On Water at Montauk\, NY
DESCRIPTION:Harnessing the ocean’s transformative powers\, we deliver life-changing surf therapy to children with unique needs and their families. \nWe constantly strive to enhance our programs\, strengthen our community and provide access to more children in need and their families\, while remaining true to our core values— Empowering children with a feeling of pride and accomplishment\, as they unlock their inner athlete through the emotional and incredibly transforming experience of surfing. \nSignups for each individual location will be held 4 to 6 weeks before the event and announced via socials and email.
URL:https://inclusivesol.org/event/a-walk-on-water-at-montauk-ny-2/
LOCATION:Montauk\, 18 Ditch Plains Rd\, NY\, 11954\, United States
END:VEVENT
BEGIN:VEVENT
DTSTART;TZID=UTC:20260926T080000
DTEND;TZID=UTC:20260926T140000
DTSTAMP:20260419T154545
CREATED:20260228T044141Z
LAST-MODIFIED:20260228T044141Z
UID:5053-1790409600-1790431200@inclusivesol.org
SUMMARY:A Walk On Water at Rockaway\, NY
DESCRIPTION:Harnessing the ocean’s transformative powers\, we deliver life-changing surf therapy to children with unique needs and their families. \nWe constantly strive to enhance our programs\, strengthen our community and provide access to more children in need and their families\, while remaining true to our core values— Empowering children with a feeling of pride and accomplishment\, as they unlock their inner athlete through the emotional and incredibly transforming experience of surfing. \nSignups for each individual location will be held 4 to 6 weeks before the event and announced via socials and email.
URL:https://inclusivesol.org/event/a-walk-on-water-at-rockaway-ny/
LOCATION:Rockaway Beach\, Rockaway Peninsula\, Queens\, NY\, 11694\, United States
END:VEVENT
BEGIN:VEVENT
DTSTART;TZID=UTC:20261022T180000
DTEND;TZID=UTC:20261022T185500
DTSTAMP:20260419T154545
CREATED:20251213T141927Z
LAST-MODIFIED:20251228T064512Z
UID:4440-1792692000-1792695300@inclusivesol.org
SUMMARY:Pause & Connect with Inclusive Sol - October 2026
DESCRIPTION:Pause & Connect is a monthly space via a virtual Zoom gathering for caregivers of people with cerebral palsy to breathe\, feel supported\, and connect in community. \n✨October – “Advocacy in Action”\nLearning how to use your voice for awareness and policy change — celebrating World Cerebral Palsy Day (Oct 6)\, National Physical Therapy Month\, and National Disability Employment Awareness Month. \n✨ Purpose\nTo create a safe and nurturing online space where parents and caregivers of people with cerebral palsy can pause from daily routines\, connect with others who understand\, and feel seen and supported. \n✨ Why We Gather\nTo connect the CP community\, share our experiences\, and exchange practical ideas that help us support ourselves and our loved ones with confidence and connection at every age and stage. \n✨ Format\nZoom Video Conference\nTo honor different schedules\, session times rotate each month between a midday and an evening option: \n\n2nd Wednesday — 12:00–12:55 pm PST\n4th Thursday — 6:00–6:55 pm PST\n\nEach month offers one peer-led session\, following this rotation. \nIn our time together\, you’ll find empathy\, understanding\, and community—gentle reminders that you don’t have to navigate this path alone. Together\, we pause\, connect\, and build belonging. \n✨ 2026 Pause & Connect Calendar\n\n\n\n\n\nJanuary – Wed\, Jan 14\, 2026 · 12:00–1:00 pm PST\nFebruary – Thu\, Feb 26\, 2026 · 6:00–7:00 pm PST\nMarch – Wed\, Mar 11\, 2026 · 12:00–1:00 pm PST\nApril – Thu\, Apr 23\, 2026 · 6:00–7:00 pm PST\nMay – Wed\, May 13\, 2026 · 12:00–1:00 pm PST\nJune – Thu\, Jun 25\, 2026 · 6:00–7:00 pm PST\nJuly – Wed\, Jul 8\, 2026 · 12:00–1:00 pm PST\nAugust – Thu\, Aug 27\, 2026 · 6:00–7:00 pm PST\nSeptember – Wed\, Sep 9\, 2026 · 12:00–1:00 pm PST\nOctober – Thu\, Oct 22\, 2026 · 6:00–7:00 pm PST\nNovember – Wed\, Nov 11\, 2026 · 12:00–1:00 pm PST\nDecember – Thu\, Dec 10\, 2026 · 6:00–7:00 pm PST\n\n\n\n\n\nRSVP on Eventbrite directly
URL:https://inclusivesol.org/event/pause-connect-with-inclusive-sol-october-2026/
LOCATION:Online Support Group for Parents/Caregivers
END:VEVENT
BEGIN:VEVENT
DTSTART;TZID=UTC:20261024T080000
DTEND;TZID=UTC:20261024T140000
DTSTAMP:20260419T154545
CREATED:20260228T044433Z
LAST-MODIFIED:20260228T044433Z
UID:5057-1792828800-1792850400@inclusivesol.org
SUMMARY:A Walk On Water at Revel Wave Pool (Mesa\, AZ)
DESCRIPTION:Harnessing the ocean’s transformative powers\, we deliver life-changing surf therapy to children with unique needs and their families. \nWe constantly strive to enhance our programs\, strengthen our community and provide access to more children in need and their families\, while remaining true to our core values— Empowering children with a feeling of pride and accomplishment\, as they unlock their inner athlete through the emotional and incredibly transforming experience of surfing. \nSignups for each individual location will be held 4 to 6 weeks before the event and announced via socials and email.
URL:https://inclusivesol.org/event/a-walk-on-water-at-revel-wave-pool-mesa-az/
LOCATION:Revel Surf\, 4503 S Power Rd\, Mesa\, AZ\, 85212\, United States
END:VEVENT
BEGIN:VEVENT
DTSTART;TZID=UTC:20261107T080000
DTEND;TZID=UTC:20261107T140000
DTSTAMP:20260419T154545
CREATED:20260228T044616Z
LAST-MODIFIED:20260228T044616Z
UID:5061-1794038400-1794060000@inclusivesol.org
SUMMARY:A Walk On Water at Newport Beach\, CA
DESCRIPTION:Harnessing the ocean’s transformative powers\, we deliver life-changing surf therapy to children with unique needs and their families. \nWe constantly strive to enhance our programs\, strengthen our community and provide access to more children in need and their families\, while remaining true to our core values— Empowering children with a feeling of pride and accomplishment\, as they unlock their inner athlete through the emotional and incredibly transforming experience of surfing. \nSignups for each individual location will be held 4 to 6 weeks before the event and announced via socials and email.
URL:https://inclusivesol.org/event/a-walk-on-water-at-newport-beach-ca/
LOCATION:Newport Beach\, Newport Beach\, CA\, United States
END:VEVENT
BEGIN:VEVENT
DTSTART;TZID=UTC:20261108T080000
DTEND;TZID=UTC:20261108T140000
DTSTAMP:20260419T154545
CREATED:20260228T044728Z
LAST-MODIFIED:20260228T044728Z
UID:5065-1794124800-1794146400@inclusivesol.org
SUMMARY:A Walk On Water at Newport Beach\, CA
DESCRIPTION:Harnessing the ocean’s transformative powers\, we deliver life-changing surf therapy to children with unique needs and their families. \nWe constantly strive to enhance our programs\, strengthen our community and provide access to more children in need and their families\, while remaining true to our core values— Empowering children with a feeling of pride and accomplishment\, as they unlock their inner athlete through the emotional and incredibly transforming experience of surfing. \nSignups for each individual location will be held 4 to 6 weeks before the event and announced via socials and email.
URL:https://inclusivesol.org/event/a-walk-on-water-at-newport-beach-ca-2/
LOCATION:Newport Beach\, Newport Beach\, CA\, United States
END:VEVENT
BEGIN:VEVENT
DTSTART;TZID=UTC:20261111T120000
DTEND;TZID=UTC:20261111T125500
DTSTAMP:20260419T154545
CREATED:20251213T141042Z
LAST-MODIFIED:20251228T064435Z
UID:4425-1794398400-1794401700@inclusivesol.org
SUMMARY:Pause & Connect with Inclusive Sol - November 2026
DESCRIPTION:Pause & Connect is a monthly space via a virtual Zoom gathering for caregivers of people with cerebral palsy to breathe\, feel supported\, and connect in community. \n✨November – “Gratitude & Reflection”\nSharing what has helped most this year and expressing appreciation — during Epilepsy Awareness Month and National Family Caregivers Month. \n✨ Purpose\nTo create a safe and nurturing online space where parents and caregivers of people with cerebral palsy can pause from daily routines\, connect with others who understand\, and feel seen and supported. \n✨ Why We Gather\nTo connect the CP community\, share our experiences\, and exchange practical ideas that help us support ourselves and our loved ones with confidence and connection at every age and stage. \n✨ Format\nZoom Video Conference\nTo honor different schedules\, session times rotate each month between a midday and an evening option: \n\n2nd Wednesday — 12:00–12:55 pm PST\n4th Thursday — 6:00–6:55 pm PST\n\nEach month offers one peer-led session\, following this rotation. \nIn our time together\, you’ll find empathy\, understanding\, and community—gentle reminders that you don’t have to navigate this path alone. Together\, we pause\, connect\, and build belonging. \n✨ 2026 Pause & Connect Calendar\n\n\n\n\n\nJanuary – Wed\, Jan 14\, 2026 · 12:00–1:00 pm PST\nFebruary – Thu\, Feb 26\, 2026 · 6:00–7:00 pm PST\nMarch – Wed\, Mar 11\, 2026 · 12:00–1:00 pm PST\nApril – Thu\, Apr 23\, 2026 · 6:00–7:00 pm PST\nMay – Wed\, May 13\, 2026 · 12:00–1:00 pm PST\nJune – Thu\, Jun 25\, 2026 · 6:00–7:00 pm PST\nJuly – Wed\, Jul 8\, 2026 · 12:00–1:00 pm PST\nAugust – Thu\, Aug 27\, 2026 · 6:00–7:00 pm PST\nSeptember – Wed\, Sep 9\, 2026 · 12:00–1:00 pm PST\nOctober – Thu\, Oct 22\, 2026 · 6:00–7:00 pm PST\nNovember – Wed\, Nov 11\, 2026 · 12:00–1:00 pm PST\nDecember – Thu\, Dec 10\, 2026 · 6:00–7:00 pm PST\n\n\n\n\n\nRSVP Directly on Eventbrite
URL:https://inclusivesol.org/event/pause-connect-with-inclusive-sol-november-2026-2/
LOCATION:Online Support Group for Parents/Caregivers
END:VEVENT
BEGIN:VEVENT
DTSTART;TZID=UTC:20261210T180000
DTEND;TZID=UTC:20261210T185500
DTSTAMP:20260419T154545
CREATED:20251213T142047Z
LAST-MODIFIED:20251228T064340Z
UID:4442-1796925600-1796928900@inclusivesol.org
SUMMARY:Pause & Connect with Inclusive Sol - December 2026
DESCRIPTION:Pause & Connect is a monthly space via a virtual Zoom gathering for caregivers of people with cerebral palsy to breathe\, feel supported\, and connect in community. \n✨December – “Looking Ahead”\nSetting hopes and goals for the new year — alongside Inclusive Schools Week (Dec 4–8)\, reminding us that belonging in education and community is a year-round commitment. \n✨ Purpose\nTo create a safe and nurturing online space where parents and caregivers of people with cerebral palsy can pause from daily routines\, connect with others who understand\, and feel seen and supported. \n✨ Why We Gather\nTo connect the CP community\, share our experiences\, and exchange practical ideas that help us support ourselves and our loved ones with confidence and connection at every age and stage. \n✨ Format\nZoom Video Conference\nTo honor different schedules\, session times rotate each month between a midday and an evening option: \n\n2nd Wednesday — 12:00–12:55 pm PST\n4th Thursday — 6:00–6:55 pm PST\n\nEach month offers one peer-led session\, following this rotation. \nIn our time together\, you’ll find empathy\, understanding\, and community—gentle reminders that you don’t have to navigate this path alone. Together\, we pause\, connect\, and build belonging. \n✨ 2026 Pause & Connect Calendar\n\n\n\n\n\nJanuary – Wed\, Jan 14\, 2026 · 12:00–1:00 pm PST\nFebruary – Thu\, Feb 26\, 2026 · 6:00–7:00 pm PST\nMarch – Wed\, Mar 11\, 2026 · 12:00–1:00 pm PST\nApril – Thu\, Apr 23\, 2026 · 6:00–7:00 pm PST\nMay – Wed\, May 13\, 2026 · 12:00–1:00 pm PST\nJune – Thu\, Jun 25\, 2026 · 6:00–7:00 pm PST\nJuly – Wed\, Jul 8\, 2026 · 12:00–1:00 pm PST\nAugust – Thu\, Aug 27\, 2026 · 6:00–7:00 pm PST\nSeptember – Wed\, Sep 9\, 2026 · 12:00–1:00 pm PST\nOctober – Thu\, Oct 22\, 2026 · 6:00–7:00 pm PST\nNovember – Wed\, Nov 11\, 2026 · 12:00–1:00 pm PST\nDecember – Thu\, Dec 10\, 2026 · 6:00–7:00 pm PST\n\n\n\n\n\nRSVP on Eventbrite directly
URL:https://inclusivesol.org/event/pause-connect-with-inclusive-sol-december-2026/
LOCATION:Online Support Group for Parents/Caregivers
END:VEVENT
END:VCALENDAR